BEGIN:VCALENDAR
VERSION:2.0
PRODID:icalendar-ruby
CALSCALE:GREGORIAN
METHOD:PUBLISH
BEGIN:VEVENT
DTSTAMP:20260420T093653Z
UID:41-1098238@rlc-lebanon.org
DTSTART:20240702T230000Z
DTEND:20240703T000000Z
CLASS:PUBLIC
CREATED:20260420T020817
DESCRIPTION:Narcotics Anonymous Meeting
LAST-MODIFIED:20260420T020817
LOCATION:
SUMMARY:Narcotics Anonymous Meeting
URL;VALUE=URI:https://www.rlc-lebanon.org/events/narcotics-anonymous-meetin
 g/2024-07-02
END:VEVENT
END:VCALENDAR
