BEGIN:VCALENDAR
VERSION:2.0
PRODID:icalendar-ruby
CALSCALE:GREGORIAN
METHOD:PUBLISH
BEGIN:VEVENT
DTSTAMP:20260421T043442Z
UID:41-1102589@rlc-lebanon.org
DTSTART:20240820T230000Z
DTEND:20240821T000000Z
CLASS:PUBLIC
CREATED:20260420T200704
DESCRIPTION:Narcotics Anonymous Meeting
LAST-MODIFIED:20260420T200704
LOCATION:
SUMMARY:Narcotics Anonymous Meeting
URL;VALUE=URI:https://www.rlc-lebanon.org/events/narcotics-anonymous-meetin
 g/2024-08-20
END:VEVENT
END:VCALENDAR
