BEGIN:VCALENDAR
VERSION:2.0
PRODID:icalendar-ruby
CALSCALE:GREGORIAN
METHOD:PUBLISH
BEGIN:VEVENT
DTSTAMP:20260421T121850Z
UID:41-1103318@rlc-lebanon.org
DTSTART:20240924T230000Z
DTEND:20240925T000000Z
CLASS:PUBLIC
CREATED:20260421T071322
DESCRIPTION:Narcotics Anonymous Meeting
LAST-MODIFIED:20260421T071322
LOCATION:
SUMMARY:Narcotics Anonymous Meeting
URL;VALUE=URI:https://www.rlc-lebanon.org/events/narcotics-anonymous-meetin
 g/2024-09-24
END:VEVENT
END:VCALENDAR
