BEGIN:VCALENDAR
VERSION:2.0
PRODID:icalendar-ruby
CALSCALE:GREGORIAN
METHOD:PUBLISH
BEGIN:VEVENT
DTSTAMP:20260421T134502Z
UID:41-1103319@rlc-lebanon.org
DTSTART:20241001T230000Z
DTEND:20241002T000000Z
CLASS:PUBLIC
CREATED:20260421T071322
DESCRIPTION:Narcotics Anonymous Meeting
LAST-MODIFIED:20260421T071322
LOCATION:
SUMMARY:Narcotics Anonymous Meeting
URL;VALUE=URI:https://www.rlc-lebanon.org/events/narcotics-anonymous-meetin
 g/2024-10-01
END:VEVENT
END:VCALENDAR
