BEGIN:VCALENDAR
VERSION:2.0
PRODID:icalendar-ruby
CALSCALE:GREGORIAN
METHOD:PUBLISH
BEGIN:VEVENT
DTSTAMP:20260421T163639Z
UID:41-1104769@rlc-lebanon.org
DTSTART:20241015T230000Z
DTEND:20241016T000000Z
CLASS:PUBLIC
CREATED:20260421T122703
DESCRIPTION:Narcotics Anonymous Meeting
LAST-MODIFIED:20260421T122703
LOCATION:
SUMMARY:Narcotics Anonymous Meeting
URL;VALUE=URI:https://www.rlc-lebanon.org/events/narcotics-anonymous-meetin
 g/2024-10-15
END:VEVENT
END:VCALENDAR
