BEGIN:VCALENDAR
VERSION:2.0
PRODID:icalendar-ruby
CALSCALE:GREGORIAN
METHOD:PUBLISH
BEGIN:VEVENT
DTSTAMP:20260421T211855Z
UID:41-1105497@rlc-lebanon.org
DTSTART:20241106T000000Z
DTEND:20241106T010000Z
CLASS:PUBLIC
CREATED:20260421T150446
DESCRIPTION:Narcotics Anonymous Meeting
LAST-MODIFIED:20260421T150446
LOCATION:
SUMMARY:Narcotics Anonymous Meeting
URL;VALUE=URI:https://www.rlc-lebanon.org/events/narcotics-anonymous-meetin
 g/2024-11-05
END:VEVENT
END:VCALENDAR
