BEGIN:VCALENDAR
VERSION:2.0
PRODID:icalendar-ruby
CALSCALE:GREGORIAN
METHOD:PUBLISH
BEGIN:VEVENT
DTSTAMP:20260421T223957Z
UID:41-1106223@rlc-lebanon.org
DTSTART:20241113T000000Z
DTEND:20241113T010000Z
CLASS:PUBLIC
CREATED:20260421T174154
DESCRIPTION:Narcotics Anonymous Meeting
LAST-MODIFIED:20260421T174154
LOCATION:
SUMMARY:Narcotics Anonymous Meeting
URL;VALUE=URI:https://www.rlc-lebanon.org/events/narcotics-anonymous-meetin
 g/2024-11-12
END:VEVENT
END:VCALENDAR
