BEGIN:VCALENDAR
VERSION:2.0
PRODID:icalendar-ruby
CALSCALE:GREGORIAN
METHOD:PUBLISH
BEGIN:VEVENT
DTSTAMP:20260422T001435Z
UID:41-1106224@rlc-lebanon.org
DTSTART:20241120T000000Z
DTEND:20241120T010000Z
CLASS:PUBLIC
CREATED:20260421T174154
DESCRIPTION:Narcotics Anonymous Meeting
LAST-MODIFIED:20260421T174154
LOCATION:
SUMMARY:Narcotics Anonymous Meeting
URL;VALUE=URI:https://www.rlc-lebanon.org/events/narcotics-anonymous-meetin
 g/2024-11-19
END:VEVENT
END:VCALENDAR
