BEGIN:VCALENDAR
VERSION:2.0
PRODID:icalendar-ruby
CALSCALE:GREGORIAN
METHOD:PUBLISH
BEGIN:VEVENT
DTSTAMP:20260422T020443Z
UID:41-1106950@rlc-lebanon.org
DTSTART:20241127T000000Z
DTEND:20241127T010000Z
CLASS:PUBLIC
CREATED:20260421T202038
DESCRIPTION:Narcotics Anonymous Meeting
LAST-MODIFIED:20260421T202038
LOCATION:
SUMMARY:Narcotics Anonymous Meeting
URL;VALUE=URI:https://www.rlc-lebanon.org/events/narcotics-anonymous-meetin
 g/2024-11-26
END:VEVENT
END:VCALENDAR
