BEGIN:VCALENDAR
VERSION:2.0
PRODID:icalendar-ruby
CALSCALE:GREGORIAN
METHOD:PUBLISH
BEGIN:VEVENT
DTSTAMP:20260424T071901Z
UID:672-1109598@rlc-lebanon.org
DTSTART:20260426T140000Z
DTEND:20260426T144500Z
CLASS:PUBLIC
CREATED:20260422T143518
DESCRIPTION:
LAST-MODIFIED:20260422T143518
LOCATION:
SUMMARY:Sunday School for All Ages
URL;VALUE=URI:https://www.rlc-lebanon.org/events/sunday-school-for-all-ages
 /2026-04-26
END:VEVENT
END:VCALENDAR
