BEGIN:VCALENDAR
VERSION:2.0
PRODID:icalendar-ruby
CALSCALE:GREGORIAN
METHOD:PUBLISH
BEGIN:VEVENT
DTSTAMP:20260422T035659Z
UID:663-1083534@rlc-lebanon.org
DTSTART:20260504T230000Z
DTEND:20260505T000000Z
CLASS:PUBLIC
CREATED:20260416T150858
DESCRIPTION:
LAST-MODIFIED:20260416T150858
LOCATION:Community Room 1
SUMMARY:Worship & Music Meeting
URL;VALUE=URI:https://www.rlc-lebanon.org/events/worship-music-meeting--663
 /2026-05-04
END:VEVENT
END:VCALENDAR
